BEGIN:VCALENDAR
VERSION:2.0
PRODID:-//https://www.candlewoodknolls.com//NONSGML kigkonsult.se iCalcreator 2.41.71//
CALSCALE:GREGORIAN
METHOD:PUBLISH
UID:34386364-6361-4062-b066-653730633461
X-WR-CALNAME:JCal Pro Calendar
X-WR-CALDESC:Your online events calendar
X-WR-TIMEZONE:America/New_York
BEGIN:VTIMEZONE
TZID:America/New_York
TZUNTIL:20271107T060000Z
BEGIN:STANDARD
TZNAME:EST
DTSTART:20251102T020000
TZOFFSETFROM:-0400
TZOFFSETTO:-0500
RDATE:20261101T020000
END:STANDARD
BEGIN:DAYLIGHT
TZNAME:EDT
DTSTART:20260308T020000
TZOFFSETFROM:-0500
TZOFFSETTO:-0400
RDATE:20270314T020000
END:DAYLIGHT
END:VTIMEZONE
BEGIN:VEVENT
UID:20250806T220000UTC-0394uOvNfi@https://candlewoodknolls.com/
DTSTAMP:20260423T082350Z
CATEGORIES:CKCP_Calendar
DTSTART;TZID=America/New_York:20250806T000000
DTEND;TZID=America/New_York:20250806T235959
SUMMARY:Wacky Relays!
URL:https://www.candlewoodknolls.com/index.php/ckcp-calendar/23-ckcp-calend
 ar/418-wacky-relays
END:VEVENT
BEGIN:VEVENT
UID:20250806T220000UTC-0531j7mOGR@https://candlewoodknolls.com/
DTSTAMP:20260423T082350Z
CATEGORIES:CKCP_Calendar
DTSTART;TZID=America/New_York:20250806T000000
DTEND;TZID=America/New_York:20250806T235959
SUMMARY:CIT Appreciation Lunch
URL:https://www.candlewoodknolls.com/index.php/ckcp-calendar/23-ckcp-calend
 ar/419-cit-appreciation-lunch
END:VEVENT
END:VCALENDAR
