BEGIN:VCALENDAR
VERSION:2.0
PRODID:-//https://www.candlewoodknolls.com//NONSGML kigkonsult.se iCalcreator 2.41.71//
CALSCALE:GREGORIAN
METHOD:PUBLISH
UID:63326133-6361-4734-a630-303366616533
X-WR-CALNAME:JCal Pro Calendar
X-WR-CALDESC:Your online events calendar
X-WR-TIMEZONE:America/New_York
BEGIN:VTIMEZONE
TZID:America/New_York
TZUNTIL:20271107T060000Z
BEGIN:STANDARD
TZNAME:EST
DTSTART:20251102T020000
TZOFFSETFROM:-0400
TZOFFSETTO:-0500
RDATE:20261101T020000
END:STANDARD
BEGIN:DAYLIGHT
TZNAME:EDT
DTSTART:20260308T020000
TZOFFSETFROM:-0500
TZOFFSETTO:-0400
RDATE:20270314T020000
END:DAYLIGHT
END:VTIMEZONE
BEGIN:VEVENT
UID:20250715T210000UTC-2721vandXA@https://candlewoodknolls.com/
DTSTAMP:20260421T124921Z
CATEGORIES:CKCP_Calendar
DTSTART;TZID=America/New_York:20250715T000000
DTEND;TZID=America/New_York:20250715T235959
SUMMARY:The Isle Swim (weather permitting)
URL:https://www.candlewoodknolls.com/index.php/ckcp-calendar/23-ckcp-calend
 ar/402-the-isle-swim-weather-permitting
END:VEVENT
END:VCALENDAR
