BEGIN:VCALENDAR
VERSION:2.0
PRODID:-//https://www.candlewoodknolls.com//NONSGML kigkonsult.se iCalcreator 2.41.71//
CALSCALE:GREGORIAN
METHOD:PUBLISH
UID:33333538-3063-4463-a136-626563663264
X-WR-CALNAME:JCal Pro Calendar
X-WR-CALDESC:Your online events calendar
X-WR-TIMEZONE:America/New_York
BEGIN:VTIMEZONE
TZID:America/New_York
TZUNTIL:20271107T060000Z
BEGIN:STANDARD
TZNAME:EST
DTSTART:20251102T020000
TZOFFSETFROM:-0400
TZOFFSETTO:-0500
RDATE:20261101T020000
END:STANDARD
BEGIN:DAYLIGHT
TZNAME:EDT
DTSTART:20260308T020000
TZOFFSETFROM:-0500
TZOFFSETTO:-0400
RDATE:20270314T020000
END:DAYLIGHT
END:VTIMEZONE
BEGIN:VEVENT
UID:20250626T190000UTC-6335VIhHEu@https://candlewoodknolls.com/
DTSTAMP:20260419T130246Z
CATEGORIES:Events
CATEGORIES:CKCP_Calendar
CATEGORIES:CKCP_Calendar Fun
DTSTART;TZID=America/New_York:20250626T190000
DTEND;TZID=America/New_York:20250626T193000
RRULE:FREQ=WEEKLY;COUNT=5;INTERVAL=1;BYDAY=TH
SUMMARY:Ice Cream Night
URL:https://www.candlewoodknolls.com/index.php/ckcp-calendar/9-events/388-i
 ce-cream-night
END:VEVENT
END:VCALENDAR
