BEGIN:VCALENDAR
VERSION:2.0
PRODID:-//https://www.candlewoodknolls.com//NONSGML kigkonsult.se iCalcreator 2.41.71//
CALSCALE:GREGORIAN
METHOD:PUBLISH
UID:31333734-6162-4564-b934-653861663065
X-WR-CALNAME:JCal Pro Calendar
X-WR-CALDESC:Your online events calendar
X-WR-TIMEZONE:America/New_York
BEGIN:VTIMEZONE
TZID:America/New_York
TZUNTIL:20271107T060000Z
BEGIN:STANDARD
TZNAME:EST
DTSTART:20251102T020000
TZOFFSETFROM:-0400
TZOFFSETTO:-0500
RDATE:20261101T020000
END:STANDARD
BEGIN:DAYLIGHT
TZNAME:EDT
DTSTART:20260308T020000
TZOFFSETFROM:-0500
TZOFFSETTO:-0400
RDATE:20270314T020000
END:DAYLIGHT
END:VTIMEZONE
BEGIN:VEVENT
UID:20230715T110000EDT-4106pJZRXv@https://www.candlewoodknolls.com/
DTSTAMP:20260419T143739Z
CATEGORIES:Events
CATEGORIES:CKCP_Calendar Fun
DTSTART;TZID=America/New_York:20230715T000000
DTEND;TZID=America/New_York:20230715T235959
SUMMARY:Family Picnic
URL:https://www.candlewoodknolls.com/index.php/ckcp-calendar/9-events/222-f
 amily-picnic
END:VEVENT
END:VCALENDAR
