BEGIN:VCALENDAR
VERSION:2.0
PRODID:-//https://www.candlewoodknolls.com//NONSGML kigkonsult.se iCalcreator 2.41.71//
CALSCALE:GREGORIAN
METHOD:PUBLISH
UID:63316338-3664-4934-b537-346539376463
X-WR-CALNAME:JCal Pro Calendar
X-WR-CALDESC:Your online events calendar
X-WR-TIMEZONE:America/New_York
BEGIN:VTIMEZONE
TZID:America/New_York
TZUNTIL:20271107T060000Z
BEGIN:STANDARD
TZNAME:EST
DTSTART:20251102T020000
TZOFFSETFROM:-0400
TZOFFSETTO:-0500
RDATE:20261101T020000
END:STANDARD
BEGIN:DAYLIGHT
TZNAME:EDT
DTSTART:20260308T020000
TZOFFSETFROM:-0500
TZOFFSETTO:-0400
RDATE:20270314T020000
END:DAYLIGHT
END:VTIMEZONE
BEGIN:VEVENT
UID:20240703T120000UTC-17964uzzip@https://candlewoodknolls.com/
DTSTAMP:20260419T144823Z
CATEGORIES:CKCP_Calendar Fun
DTSTART;TZID=America/New_York:20240703T000000
DTEND;TZID=America/New_York:20240703T235959
SUMMARY:Popsicle Day
URL:https://www.candlewoodknolls.com/index.php/ckcp-calendar/24-ckcp-calend
 ar-fun/284-popsicle-day
END:VEVENT
END:VCALENDAR
