BEGIN:VCALENDAR
VERSION:2.0
PRODID:-//https://www.candlewoodknolls.com//NONSGML kigkonsult.se iCalcreator 2.41.71//
CALSCALE:GREGORIAN
METHOD:PUBLISH
UID:30306634-6334-4336-b564-623434313162
X-WR-CALNAME:JCal Pro Calendar
X-WR-CALDESC:Your online events calendar
X-WR-TIMEZONE:America/New_York
BEGIN:VTIMEZONE
TZID:America/New_York
TZUNTIL:20271107T060000Z
BEGIN:STANDARD
TZNAME:EST
DTSTART:20251102T020000
TZOFFSETFROM:-0400
TZOFFSETTO:-0500
RDATE:20261101T020000
END:STANDARD
BEGIN:DAYLIGHT
TZNAME:EDT
DTSTART:20260308T020000
TZOFFSETFROM:-0500
TZOFFSETTO:-0400
RDATE:20270314T020000
END:DAYLIGHT
END:VTIMEZONE
BEGIN:VEVENT
UID:20220722T110000EDT-45505UHwHI@https://candlewood.brand24llc.com/
DTSTAMP:20260419T145236Z
CATEGORIES:CKCP_Calendar
DTSTART;TZID=America/New_York:20220722T000000
DTEND;TZID=America/New_York:20220722T235959
SUMMARY:Ice Cream Truck
URL:https://www.candlewoodknolls.com/index.php/ckcp-calendar/23-ckcp-calend
 ar/89-ice-cream-truck-2
END:VEVENT
END:VCALENDAR
